BEGIN:VCALENDAR
VERSION:2.0
PRODID:-//Chatham Nursery - ECPv6.15.20//NONSGML v1.0//EN
CALSCALE:GREGORIAN
METHOD:PUBLISH
X-WR-CALNAME:Chatham Nursery
X-ORIGINAL-URL:https://www.chathamnursery.co.uk
X-WR-CALDESC:Events for Chatham Nursery
REFRESH-INTERVAL;VALUE=DURATION:PT1H
X-Robots-Tag:noindex
X-PUBLISHED-TTL:PT1H
BEGIN:VTIMEZONE
TZID:Europe/London
BEGIN:DAYLIGHT
TZOFFSETFROM:+0000
TZOFFSETTO:+0100
TZNAME:BST
DTSTART:20240331T010000
END:DAYLIGHT
BEGIN:STANDARD
TZOFFSETFROM:+0100
TZOFFSETTO:+0000
TZNAME:GMT
DTSTART:20241027T010000
END:STANDARD
BEGIN:DAYLIGHT
TZOFFSETFROM:+0000
TZOFFSETTO:+0100
TZNAME:BST
DTSTART:20250330T010000
END:DAYLIGHT
BEGIN:STANDARD
TZOFFSETFROM:+0100
TZOFFSETTO:+0000
TZNAME:GMT
DTSTART:20251026T010000
END:STANDARD
BEGIN:DAYLIGHT
TZOFFSETFROM:+0000
TZOFFSETTO:+0100
TZNAME:BST
DTSTART:20260329T010000
END:DAYLIGHT
BEGIN:STANDARD
TZOFFSETFROM:+0100
TZOFFSETTO:+0000
TZNAME:GMT
DTSTART:20261025T010000
END:STANDARD
END:VTIMEZONE
BEGIN:VEVENT
DTSTART;TZID=Europe/London:20250402T090000
DTEND;TZID=Europe/London:20250402T150000
DTSTAMP:20260421T121456
CREATED:20241218T115212Z
LAST-MODIFIED:20241218T115822Z
UID:2990-1743584400-1743606000@www.chathamnursery.co.uk
SUMMARY:Eid Parties!
DESCRIPTION:We will be having our Eid Parties on this day! We invite children to come in wearing party clothes\, there will be homemade party food\, dancing and games.
URL:https://www.chathamnursery.co.uk/calendar/eid-parties/
END:VEVENT
BEGIN:VEVENT
DTSTART;VALUE=DATE:20250404
DTEND;VALUE=DATE:20250405
DTSTAMP:20260421T121456
CREATED:20240910T142331Z
LAST-MODIFIED:20240910T142631Z
UID:2713-1743724800-1743811199@www.chathamnursery.co.uk
SUMMARY:Inset Day
DESCRIPTION:School Closed.
URL:https://www.chathamnursery.co.uk/calendar/inset-day-3/
END:VEVENT
BEGIN:VEVENT
DTSTART;TZID=Europe/London:20250407T080000
DTEND;TZID=Europe/London:20250421T170000
DTSTAMP:20260421T121456
CREATED:20240910T142508Z
LAST-MODIFIED:20240910T142508Z
UID:2715-1744012800-1745254800@www.chathamnursery.co.uk
SUMMARY:Spring Break
DESCRIPTION:
URL:https://www.chathamnursery.co.uk/calendar/spring-break/
END:VEVENT
END:VCALENDAR