BEGIN:VCALENDAR
VERSION:2.0
PRODID:-//Chatham Nursery - ECPv6.15.20//NONSGML v1.0//EN
CALSCALE:GREGORIAN
METHOD:PUBLISH
X-WR-CALNAME:Chatham Nursery
X-ORIGINAL-URL:https://www.chathamnursery.co.uk
X-WR-CALDESC:Events for Chatham Nursery
REFRESH-INTERVAL;VALUE=DURATION:PT1H
X-Robots-Tag:noindex
X-PUBLISHED-TTL:PT1H
BEGIN:VTIMEZONE
TZID:Europe/London
BEGIN:DAYLIGHT
TZOFFSETFROM:+0000
TZOFFSETTO:+0100
TZNAME:BST
DTSTART:20230326T010000
END:DAYLIGHT
BEGIN:STANDARD
TZOFFSETFROM:+0100
TZOFFSETTO:+0000
TZNAME:GMT
DTSTART:20231029T010000
END:STANDARD
BEGIN:DAYLIGHT
TZOFFSETFROM:+0000
TZOFFSETTO:+0100
TZNAME:BST
DTSTART:20240331T010000
END:DAYLIGHT
BEGIN:STANDARD
TZOFFSETFROM:+0100
TZOFFSETTO:+0000
TZNAME:GMT
DTSTART:20241027T010000
END:STANDARD
BEGIN:DAYLIGHT
TZOFFSETFROM:+0000
TZOFFSETTO:+0100
TZNAME:BST
DTSTART:20250330T010000
END:DAYLIGHT
BEGIN:STANDARD
TZOFFSETFROM:+0100
TZOFFSETTO:+0000
TZNAME:GMT
DTSTART:20251026T010000
END:STANDARD
END:VTIMEZONE
BEGIN:VEVENT
DTSTART;TZID=Europe/London:20241023T090000
DTEND;TZID=Europe/London:20241023T120000
DTSTAMP:20260421T202447
CREATED:20241010T092958Z
LAST-MODIFIED:20241021T155019Z
UID:2789-1729674000-1729684800@www.chathamnursery.co.uk
SUMMARY:Calderstones Park - Whole School Trip Wednesday 23rd October
DESCRIPTION:We are excited to invite you and your child to join us on a free school trip to Calderstones Park. This will be a wonderful opportunity for the children to explore nature and enjoy outdoor activities. \nDetails of the trip: \n\nDate: 23-10-24\nTime: Arrive at school at 9.00 am and return by 12:00 pm.\nNote: There will be no regular nursery sessions that day\, afternoon children are invited to swap their session to the morning and parents/carers are required to accompany their child for the trip.\n\nPlease ensure you and your child are dressed appropriately for the weather (waterproof coats) and wear comfortable footwear. If you have any questions or need further information\, please contact the school office. \nWe look forward to sharing this exciting day with you and your child! \nBest regards\,\nChatham Nursery School \nأعزائي أولياء الأمور/مقدمي الرعاية \nنحن متحمسون لدعوتك أنت وطفلك للانضمام إلينا في رحلة مدرسية مجانية إلى حديقة كالدرستونز بارك . ستكون هذه فرصة رائعة للأطفال لاستكشاف الطبيعة والاستمتاع بالأنشطة في الهواء الطلق. \nتفاصيل الرحلة: \nالتاريخ: 23-10-24 \nالوقت: الوصول إلى المدرسة في الساعة 9:00 صباحاً والعودة بحلول الساعة 12:00 ظهراً. \nلن يكون هناك حضانة في ذلك اليوم للأطفال الملتحقين بالحضانة في فترة ما بعد الظهر. ولذلك، يمكن للأطفال الذين يحضرون الحضانة في فترة ما بعد الظهر حضور الحضانه في الفتره الصباحية في ذلك اليوم. يجب على الوالدين مرافقة طفلهم في الرحلة. \n  \nيُرجى التأكد من ارتدائك أنت وطفلك ملابس مناسبة للطقس (معاطف مضادة للماء) وارتداء أحذية مريحة. إذا كان لديك أي أسئلة أو تحتاج إلى مزيد من المعلومات، يرجى الاتصال بمكتب المدرسة. \nنتطلع إلى مشاركة هذا اليوم المثير معك ومع طفلك! \n 
URL:https://www.chathamnursery.co.uk/calendar/calderstones-park-whole-school-trip-wednesday-23rd-october/
END:VEVENT
BEGIN:VEVENT
DTSTART;TZID=Europe/London:20241028T080000
DTEND;TZID=Europe/London:20241103T170000
DTSTAMP:20260421T202447
CREATED:20240910T141347Z
LAST-MODIFIED:20240910T141829Z
UID:2703-1730102400-1730653200@www.chathamnursery.co.uk
SUMMARY:Half Term
DESCRIPTION:
URL:https://www.chathamnursery.co.uk/calendar/half-term-14/
END:VEVENT
END:VCALENDAR