BEGIN:VCALENDAR
VERSION:2.0
PRODID:-//Chatham Nursery - ECPv6.15.20//NONSGML v1.0//EN
CALSCALE:GREGORIAN
METHOD:PUBLISH
X-ORIGINAL-URL:https://www.chathamnursery.co.uk
X-WR-CALDESC:Events for Chatham Nursery
REFRESH-INTERVAL;VALUE=DURATION:PT1H
X-Robots-Tag:noindex
X-PUBLISHED-TTL:PT1H
BEGIN:VTIMEZONE
TZID:Europe/London
BEGIN:DAYLIGHT
TZOFFSETFROM:+0000
TZOFFSETTO:+0100
TZNAME:BST
DTSTART:20230326T010000
END:DAYLIGHT
BEGIN:STANDARD
TZOFFSETFROM:+0100
TZOFFSETTO:+0000
TZNAME:GMT
DTSTART:20231029T010000
END:STANDARD
BEGIN:DAYLIGHT
TZOFFSETFROM:+0000
TZOFFSETTO:+0100
TZNAME:BST
DTSTART:20240331T010000
END:DAYLIGHT
BEGIN:STANDARD
TZOFFSETFROM:+0100
TZOFFSETTO:+0000
TZNAME:GMT
DTSTART:20241027T010000
END:STANDARD
BEGIN:DAYLIGHT
TZOFFSETFROM:+0000
TZOFFSETTO:+0100
TZNAME:BST
DTSTART:20250330T010000
END:DAYLIGHT
BEGIN:STANDARD
TZOFFSETFROM:+0100
TZOFFSETTO:+0000
TZNAME:GMT
DTSTART:20251026T010000
END:STANDARD
END:VTIMEZONE
BEGIN:VEVENT
DTSTART;VALUE=DATE:20240501
DTEND;VALUE=DATE:20240502
DTSTAMP:20260422T035559
CREATED:20231218T111419Z
LAST-MODIFIED:20231218T111419Z
UID:2543-1714521600-1714607999@www.chathamnursery.co.uk
SUMMARY:Open Day
DESCRIPTION:The 3-4 Year old room will be closed today. \n9.30am- 12 open morning for children starting September 2023
URL:https://www.chathamnursery.co.uk/calendar/open-day/
END:VEVENT
BEGIN:VEVENT
DTSTART;VALUE=DATE:20240506
DTEND;VALUE=DATE:20240507
DTSTAMP:20260422T035559
CREATED:20231215T132515Z
LAST-MODIFIED:20231215T132515Z
UID:2505-1714953600-1715039999@www.chathamnursery.co.uk
SUMMARY:Bank Holiday
DESCRIPTION:
URL:https://www.chathamnursery.co.uk/calendar/bank-holiday-2/
END:VEVENT
BEGIN:VEVENT
DTSTART;VALUE=DATE:20240515
DTEND;VALUE=DATE:20240516
DTSTAMP:20260422T035559
CREATED:20231218T111714Z
LAST-MODIFIED:20231218T111714Z
UID:2546-1715731200-1715817599@www.chathamnursery.co.uk
SUMMARY:Environmental Day
DESCRIPTION:Parents\, carers\, children and Governors are invited to join the children and staff in helping to make our outdoor environment more vibrant. \nActivities include planting\, making bird feeders\, bug hotels and wind chimes from recycled materials.
URL:https://www.chathamnursery.co.uk/calendar/environmental-day-5/
END:VEVENT
BEGIN:VEVENT
DTSTART;TZID=Europe/London:20240527T080000
DTEND;TZID=Europe/London:20240531T160000
DTSTAMP:20260422T035559
CREATED:20231215T132613Z
LAST-MODIFIED:20231215T132613Z
UID:2507-1716796800-1717171200@www.chathamnursery.co.uk
SUMMARY:Half Term
DESCRIPTION:
URL:https://www.chathamnursery.co.uk/calendar/half-term-13/
END:VEVENT
END:VCALENDAR