BEGIN:VCALENDAR
VERSION:2.0
PRODID:-//Chatham Nursery - ECPv6.15.20//NONSGML v1.0//EN
CALSCALE:GREGORIAN
METHOD:PUBLISH
X-WR-CALNAME:Chatham Nursery
X-ORIGINAL-URL:https://www.chathamnursery.co.uk
X-WR-CALDESC:Events for Chatham Nursery
REFRESH-INTERVAL;VALUE=DURATION:PT1H
X-Robots-Tag:noindex
X-PUBLISHED-TTL:PT1H
BEGIN:VTIMEZONE
TZID:Europe/London
BEGIN:DAYLIGHT
TZOFFSETFROM:+0000
TZOFFSETTO:+0100
TZNAME:BST
DTSTART:20180325T010000
END:DAYLIGHT
BEGIN:STANDARD
TZOFFSETFROM:+0100
TZOFFSETTO:+0000
TZNAME:GMT
DTSTART:20181028T010000
END:STANDARD
BEGIN:DAYLIGHT
TZOFFSETFROM:+0000
TZOFFSETTO:+0100
TZNAME:BST
DTSTART:20190331T010000
END:DAYLIGHT
BEGIN:STANDARD
TZOFFSETFROM:+0100
TZOFFSETTO:+0000
TZNAME:GMT
DTSTART:20191027T010000
END:STANDARD
BEGIN:DAYLIGHT
TZOFFSETFROM:+0000
TZOFFSETTO:+0100
TZNAME:BST
DTSTART:20200329T010000
END:DAYLIGHT
BEGIN:STANDARD
TZOFFSETFROM:+0100
TZOFFSETTO:+0000
TZNAME:GMT
DTSTART:20201025T010000
END:STANDARD
END:VTIMEZONE
BEGIN:VEVENT
DTSTART;TZID=Europe/London:20191204T090000
DTEND;TZID=Europe/London:20191204T150000
DTSTAMP:20260425T043410
CREATED:20190924T120540Z
LAST-MODIFIED:20190924T120626Z
UID:1093-1575450000-1575471600@www.chathamnursery.co.uk
SUMMARY:Greenacres Farm
DESCRIPTION:A whole School Trip has been organised to Greenacres Farm. \nThe cost of the trip is \n£6.00 per Child\, £7.00 per Adult and £4.00 grotto gift per child (optional). \nNursery will cover the cost of transport \nTo make the trip successful and safe your child will need to be accompanied by an adult.
URL:https://www.chathamnursery.co.uk/calendar/greenacres-farm/
END:VEVENT
BEGIN:VEVENT
DTSTART;VALUE=DATE:20191213
DTEND;VALUE=DATE:20191214
DTSTAMP:20260425T043410
CREATED:20190924T120833Z
LAST-MODIFIED:20190924T121127Z
UID:1095-1576195200-1576281599@www.chathamnursery.co.uk
SUMMARY:Christmas Jumper Day
DESCRIPTION:Make the world better and wear a sweater! \nDecorate your own jumper or wear a Christmas jumper . \nMake a small donation to help raise funds for Save the Children charity. \n 
URL:https://www.chathamnursery.co.uk/calendar/christmas-jumper-day/
END:VEVENT
BEGIN:VEVENT
DTSTART;VALUE=DATE:20191218
DTEND;VALUE=DATE:20191219
DTSTAMP:20260425T043410
CREATED:20190924T121352Z
LAST-MODIFIED:20190924T121515Z
UID:1099-1576627200-1576713599@www.chathamnursery.co.uk
SUMMARY:Children's Christmas Party
DESCRIPTION:9.30am – 11.30 am for Children who attend a morning session \n1pm-3pm for Children who attend afternoon session \nChild Care as usual
URL:https://www.chathamnursery.co.uk/calendar/childrens-christmas-party/
END:VEVENT
BEGIN:VEVENT
DTSTART;TZID=Europe/London:20191219T130000
DTEND;TZID=Europe/London:20191219T150000
DTSTAMP:20260425T043410
CREATED:20190924T121916Z
LAST-MODIFIED:20190924T122201Z
UID:1101-1576760400-1576767600@www.chathamnursery.co.uk
SUMMARY:Christmas Crafts and Carols
DESCRIPTION:All parents/Carers and family members are invited to join in with Christmas Craft activities and Christmas songs by the children. \n Refreshments will be provided. \n 
URL:https://www.chathamnursery.co.uk/calendar/christmas-crafts-and-carols/
END:VEVENT
BEGIN:VEVENT
DTSTART;TZID=Europe/London:20191220T080000
DTEND;TZID=Europe/London:20191220T123000
DTSTAMP:20260425T043410
CREATED:20190924T125638Z
LAST-MODIFIED:20190924T125823Z
UID:1104-1576828800-1576845000@www.chathamnursery.co.uk
SUMMARY:Christmas Closure
DESCRIPTION:Nursery closes for the Christmas holidays at 11.45 am on Friday 21st December  \n12.30 for 30hr and privately funded children \n  reopens Tuesday 7th January 2020 
URL:https://www.chathamnursery.co.uk/calendar/christmas-closure/
END:VEVENT
END:VCALENDAR