BEGIN:VCALENDAR
VERSION:2.0
PRODID:-//Chatham Nursery - ECPv6.15.20//NONSGML v1.0//EN
CALSCALE:GREGORIAN
METHOD:PUBLISH
X-ORIGINAL-URL:https://www.chathamnursery.co.uk
X-WR-CALDESC:Events for Chatham Nursery
REFRESH-INTERVAL;VALUE=DURATION:PT1H
X-Robots-Tag:noindex
X-PUBLISHED-TTL:PT1H
BEGIN:VTIMEZONE
TZID:Europe/London
BEGIN:DAYLIGHT
TZOFFSETFROM:+0000
TZOFFSETTO:+0100
TZNAME:BST
DTSTART:20180325T010000
END:DAYLIGHT
BEGIN:STANDARD
TZOFFSETFROM:+0100
TZOFFSETTO:+0000
TZNAME:GMT
DTSTART:20181028T010000
END:STANDARD
BEGIN:DAYLIGHT
TZOFFSETFROM:+0000
TZOFFSETTO:+0100
TZNAME:BST
DTSTART:20190331T010000
END:DAYLIGHT
BEGIN:STANDARD
TZOFFSETFROM:+0100
TZOFFSETTO:+0000
TZNAME:GMT
DTSTART:20191027T010000
END:STANDARD
BEGIN:DAYLIGHT
TZOFFSETFROM:+0000
TZOFFSETTO:+0100
TZNAME:BST
DTSTART:20200329T010000
END:DAYLIGHT
BEGIN:STANDARD
TZOFFSETFROM:+0100
TZOFFSETTO:+0000
TZNAME:GMT
DTSTART:20201025T010000
END:STANDARD
END:VTIMEZONE
BEGIN:VEVENT
DTSTART;TZID=Europe/London:20190501T084500
DTEND;TZID=Europe/London:20190501T153000
DTSTAMP:20260425T130909
CREATED:20190226T134642Z
LAST-MODIFIED:20200128T173638Z
UID:1044-1556700300-1556724600@www.chathamnursery.co.uk
SUMMARY:Open Day Nursery Closed
DESCRIPTION:Open day for children starting Chatham Nursery school in September 2020. \n  \nFee paying children and children accessing a 30 hour place attend as usual.
URL:https://www.chathamnursery.co.uk/calendar/open-day-3-4-room-closed/
END:VEVENT
BEGIN:VEVENT
DTSTART;TZID=Europe/London:20190502T130000
DTEND;TZID=Europe/London:20190502T150000
DTSTAMP:20260425T130909
CREATED:20190226T132857Z
LAST-MODIFIED:20190226T132857Z
UID:1036-1556802000-1556809200@www.chathamnursery.co.uk
SUMMARY:A visit from Acorn Venture Farm
DESCRIPTION:As part of our Spring and New Life topic a visit from Acorn Venture Farm has been organised. Today will be the second of two planned visits so all children will have had the opportunity to enjoy the farm experience.
URL:https://www.chathamnursery.co.uk/calendar/a-visit-from-acorn-venture-farm-2/
END:VEVENT
BEGIN:VEVENT
DTSTART;TZID=Europe/London:20190506T080000
DTEND;TZID=Europe/London:20190506T170000
DTSTAMP:20260425T130909
CREATED:20190226T134759Z
LAST-MODIFIED:20190226T134759Z
UID:1046-1557129600-1557162000@www.chathamnursery.co.uk
SUMMARY:Bank Holiday School Closed
DESCRIPTION:
URL:https://www.chathamnursery.co.uk/calendar/bank-holiday-school-closed/
END:VEVENT
BEGIN:VEVENT
DTSTART;TZID=Europe/London:20190515T084500
DTEND;TZID=Europe/London:20190515T153000
DTSTAMP:20260425T130909
CREATED:20190226T135144Z
LAST-MODIFIED:20190226T135144Z
UID:1048-1557909900-1557934200@www.chathamnursery.co.uk
SUMMARY:Environmental Day
DESCRIPTION:Parents and carers are invited to donate plants and join the children and staff in planting and craft activities.
URL:https://www.chathamnursery.co.uk/calendar/environmental-day/
END:VEVENT
BEGIN:VEVENT
DTSTART;TZID=Europe/London:20190522T160000
DTEND;TZID=Europe/London:20190522T160000
DTSTAMP:20260425T130909
CREATED:20190226T140043Z
LAST-MODIFIED:20190226T140043Z
UID:1057-1558540800-1558540800@www.chathamnursery.co.uk
SUMMARY:Staff Meeting
DESCRIPTION:Nursery closes at 4.00pm for a Staff Meeting
URL:https://www.chathamnursery.co.uk/calendar/staff-meeting-3/
END:VEVENT
BEGIN:VEVENT
DTSTART;TZID=Europe/London:20190527T080000
DTEND;TZID=Europe/London:20190531T153000
DTSTAMP:20260425T130909
CREATED:20190226T135442Z
LAST-MODIFIED:20190226T135442Z
UID:1050-1558944000-1559316600@www.chathamnursery.co.uk
SUMMARY:Half Term Holiday
DESCRIPTION:3-4 room closed for children accessing an education nursery place. \n3-4 room reopens Monday 3rd June at 8.45am
URL:https://www.chathamnursery.co.uk/calendar/half-term-holiday/
END:VEVENT
END:VCALENDAR