BEGIN:VCALENDAR
VERSION:2.0
PRODID:-//Chatham Nursery - ECPv6.15.20//NONSGML v1.0//EN
CALSCALE:GREGORIAN
METHOD:PUBLISH
X-ORIGINAL-URL:https://www.chathamnursery.co.uk
X-WR-CALDESC:Events for Chatham Nursery
REFRESH-INTERVAL;VALUE=DURATION:PT1H
X-Robots-Tag:noindex
X-PUBLISHED-TTL:PT1H
BEGIN:VTIMEZONE
TZID:Europe/London
BEGIN:DAYLIGHT
TZOFFSETFROM:+0000
TZOFFSETTO:+0100
TZNAME:BST
DTSTART:20180325T010000
END:DAYLIGHT
BEGIN:STANDARD
TZOFFSETFROM:+0100
TZOFFSETTO:+0000
TZNAME:GMT
DTSTART:20181028T010000
END:STANDARD
BEGIN:DAYLIGHT
TZOFFSETFROM:+0000
TZOFFSETTO:+0100
TZNAME:BST
DTSTART:20190331T010000
END:DAYLIGHT
BEGIN:STANDARD
TZOFFSETFROM:+0100
TZOFFSETTO:+0000
TZNAME:GMT
DTSTART:20191027T010000
END:STANDARD
BEGIN:DAYLIGHT
TZOFFSETFROM:+0000
TZOFFSETTO:+0100
TZNAME:BST
DTSTART:20200329T010000
END:DAYLIGHT
BEGIN:STANDARD
TZOFFSETFROM:+0100
TZOFFSETTO:+0000
TZNAME:GMT
DTSTART:20201025T010000
END:STANDARD
END:VTIMEZONE
BEGIN:VEVENT
DTSTART;TZID=Europe/London:20190218T084500
DTEND;TZID=Europe/London:20190222T153000
DTSTAMP:20260425T165403
CREATED:20181219T094747Z
LAST-MODIFIED:20181219T100219Z
UID:367-1550479500-1550849400@www.chathamnursery.co.uk
SUMMARY:3-4 Year Room Half Term Holiday
DESCRIPTION:3-4 year Nursery School and 2-3 funded Childcare Provision places closed for half term holiday Monday 18th Friday – 22nd February and reopens usual time on Monday 25th February \nChildren accessing childcare provision nursery open as usual
URL:https://www.chathamnursery.co.uk/calendar/3-4-year-room-half-term-holiday/
END:VEVENT
BEGIN:VEVENT
DTSTART;TZID=Europe/London:20190225T084500
DTEND;TZID=Europe/London:20190225T084500
DTSTAMP:20260425T165403
CREATED:20181219T095138Z
LAST-MODIFIED:20181219T095138Z
UID:370-1551084300-1551084300@www.chathamnursery.co.uk
SUMMARY:3-4 Room Reopen
DESCRIPTION:3-4 room reopens following Half Term holiday
URL:https://www.chathamnursery.co.uk/calendar/3-4-room-reopen/
END:VEVENT
BEGIN:VEVENT
DTSTART;TZID=Europe/London:20190227T160000
DTEND;TZID=Europe/London:20190227T160000
DTSTAMP:20260425T165403
CREATED:20190226T135737Z
LAST-MODIFIED:20190226T135737Z
UID:1053-1551283200-1551283200@www.chathamnursery.co.uk
SUMMARY:Staff Meeting
DESCRIPTION:Nursery closes at 4.00pm for Staff Training
URL:https://www.chathamnursery.co.uk/calendar/staff-meeting/
END:VEVENT
END:VCALENDAR